BEGIN:VCALENDAR
VERSION:2.0
BEGIN:VEVENT
SUMMARY:第1回モルック大竹洋平杯in長崎
DTSTART;VALUE=DATE:20260201
DTEND;VALUE=DATE:20260202
LOCATION:創成館高等学校（〒854-0063 長崎県諫早市貝津町６２１）
DESCRIPTION:https://www.molkky-navi.com/forums/topic/%e7%ac%ac1%e5%9b%9e%e3%83%a2%e3%83%ab%e3%83%83%e3%82%af%e5%a4%a7%e7%ab%b9%e6%b4%8b%e5%b9%b3%e6%9d%afin%e9%95%b7%e5%b4%8e/\n\n大会詳細\n9:00～ 開場・受付\n9:40～9:55 開会式・写真撮影\n10:00～11:40 全チーム予選3試合6セット\n10:40～12:20 お昼休憩\n12:20～16:20 全チーム予選順位に応じたトーナメントへ（最大5試合）\n13:00～14:30 トーナメント敗退後も自由参加のチャレンジコーナーあり！\n14:35～16:20 センターコートでの各トーナメント決勝戦も観戦しよう！\n16:20～16:35 閉会式・写真撮影\n～17:00 閉場
END:VEVENT
END:VCALENDAR
