BEGIN:VCALENDAR
VERSION:2.0
BEGIN:VEVENT
SUMMARY:【エントリー開始日】第1回モルック大竹洋平杯in長崎
DTSTART;VALUE=DATE:20260105
DTEND;VALUE=DATE:20260106
LOCATION:創成館高等学校（〒854-0063 長崎県諫早市貝津町６２１）
DESCRIPTION:https://www.molkky-navi.com/forums/topic/%e7%ac%ac1%e5%9b%9e%e3%83%a2%e3%83%ab%e3%83%83%e3%82%af%e5%a4%a7%e7%ab%b9%e6%b4%8b%e5%b9%b3%e6%9d%afin%e9%95%b7%e5%b4%8e/\n\nエントリー期間・方法\n<p>2026年1月5日（月）20:00～ 2026年1月28日（月）23:59<br />\npeatixより<br />\nhttps://molkkyyoheiotakecup.peatix.com/view</p>\n
END:VEVENT
END:VCALENDAR
